BEGIN:VCALENDAR
VERSION:2.0
PRODID:-//EMET | Endowment for Middle East Truth - ECPv6.15.17.1//NONSGML v1.0//EN
CALSCALE:GREGORIAN
METHOD:PUBLISH
X-WR-CALNAME:EMET | Endowment for Middle East Truth
X-ORIGINAL-URL:https://emetonline.org
X-WR-CALDESC:Events for EMET | Endowment for Middle East Truth
REFRESH-INTERVAL;VALUE=DURATION:PT1H
X-Robots-Tag:noindex
X-PUBLISHED-TTL:PT1H
BEGIN:VTIMEZONE
TZID:America/New_York
BEGIN:DAYLIGHT
TZOFFSETFROM:-0500
TZOFFSETTO:-0400
TZNAME:EDT
DTSTART:20230312T070000
END:DAYLIGHT
BEGIN:STANDARD
TZOFFSETFROM:-0400
TZOFFSETTO:-0500
TZNAME:EST
DTSTART:20231105T060000
END:STANDARD
BEGIN:DAYLIGHT
TZOFFSETFROM:-0500
TZOFFSETTO:-0400
TZNAME:EDT
DTSTART:20240310T070000
END:DAYLIGHT
BEGIN:STANDARD
TZOFFSETFROM:-0400
TZOFFSETTO:-0500
TZNAME:EST
DTSTART:20241103T060000
END:STANDARD
BEGIN:DAYLIGHT
TZOFFSETFROM:-0500
TZOFFSETTO:-0400
TZNAME:EDT
DTSTART:20250309T070000
END:DAYLIGHT
BEGIN:STANDARD
TZOFFSETFROM:-0400
TZOFFSETTO:-0500
TZNAME:EST
DTSTART:20251102T060000
END:STANDARD
END:VTIMEZONE
BEGIN:VEVENT
DTSTART;TZID=America/New_York:20240807T120000
DTEND;TZID=America/New_York:20240807T130000
DTSTAMP:20260420T112439
CREATED:20240802T052430Z
LAST-MODIFIED:20240807T175556Z
UID:17727-1723032000-1723035600@emetonline.org
SUMMARY:View from the Homefront: A Briefing with Brigadier General (Res.) Amir Avivi
DESCRIPTION:  \nREAD TRANSCRIPT HERE \nAs I write these words\, Israelis are busy preparing their bomb shelters and sealed rooms for war. The assassination of Hamas chief political leader Ismael Haniyah in Tehran\, of Hamas military leader Mohammad Deif in Khan Younis Gaza\, of Hezbollah commander Faud Shakr\, as well as the air strikes over the Houthi stronghold\,  the Yemeni port city of Hodeida\, have put Israel in a perilous position. Every Israeli I have spoken to is proud of their intelligence and military apparatus but is preparing for the worst case scenario. \nIran’s supreme leader\, Ayatollah Ali Khameini\, embarrassed that the assassination of Ismael Haniya occurred to his “guest” in Tehran\, has ordered Iran to strike Israel directly\, saying that “We see avenging his blood our duty”\, and that Israel has prepared the stage “to receive severe punishment.” \nAfter 10 months of fighting in Gaza\, does Israel still have the defensive shield to be able to ensure the protection of their people? Do they have enough offensive weaponry to be able to eliminate the threats from Hamas\, Hezbollah and the Houthis and vanquish their foes? What does this war mean for one of the objectives of the Hamas war\, freeing the hostages? Has enough of Hamas been eliminated at this point in the war? And will the United States\, Jordan\, and the United Kingdom help with Israel’s defense\, as it did last April? \nHere to answer these questions and more is Brigadier General (Res.) Amir Avivi. \nAbout Our Speaker: \nBrig. Gen. (Res.) Amir Avivi is the founder and chairman of Israel Defense and Security Forum\, a group of over 22\,000 reserve officers and operatives from all branches of the Israeli security forces\, dedicated to guiding the narrative of Israel’s security needs and ensuring that Israel’s security in the homeland is never taken for granted. \nAt the core of IDSF lies the belief that Israel’s security must be anchored in its ability to protect itself\, by itself\, while actively thwarting threats to its safety. The authoritative voices of well-known military veterans\, media personalities and national security experts\, are key in disseminating our security strategy for the State of Israel. \nDuring his service\, Amir held a series of senior roles in the IDF\, including Deputy Comptroller of the Security Forces\, Director of the Office of the Chief of Staff\, Deputy Commander of the Gaza Division\, Commander of the Sagi Division\, Commander of Battalion 605 and Commander of the School of Combat Engineering.
URL:https://emetonline.org/event/view-from-the-homefront-a-briefing-with-brigadier-general-res-amir-avivi/
CATEGORIES:Webinar
ATTACH;FMTTYPE=image/png:https://emetonline.org/wp-content/uploads/2024/07/Copy-of-101923-Webinar.png
END:VEVENT
END:VCALENDAR