BEGIN:VCALENDAR
VERSION:2.0
PRODID:-//EMET | Endowment for Middle East Truth - ECPv6.15.17.1//NONSGML v1.0//EN
CALSCALE:GREGORIAN
METHOD:PUBLISH
X-ORIGINAL-URL:https://emetonline.org
X-WR-CALDESC:Events for EMET | Endowment for Middle East Truth
REFRESH-INTERVAL;VALUE=DURATION:PT1H
X-Robots-Tag:noindex
X-PUBLISHED-TTL:PT1H
BEGIN:VTIMEZONE
TZID:America/New_York
BEGIN:DAYLIGHT
TZOFFSETFROM:-0500
TZOFFSETTO:-0400
TZNAME:EDT
DTSTART:20240310T070000
END:DAYLIGHT
BEGIN:STANDARD
TZOFFSETFROM:-0400
TZOFFSETTO:-0500
TZNAME:EST
DTSTART:20241103T060000
END:STANDARD
BEGIN:DAYLIGHT
TZOFFSETFROM:-0500
TZOFFSETTO:-0400
TZNAME:EDT
DTSTART:20250309T070000
END:DAYLIGHT
BEGIN:STANDARD
TZOFFSETFROM:-0400
TZOFFSETTO:-0500
TZNAME:EST
DTSTART:20251102T060000
END:STANDARD
BEGIN:DAYLIGHT
TZOFFSETFROM:-0500
TZOFFSETTO:-0400
TZNAME:EDT
DTSTART:20260308T070000
END:DAYLIGHT
BEGIN:STANDARD
TZOFFSETFROM:-0400
TZOFFSETTO:-0500
TZNAME:EST
DTSTART:20261101T060000
END:STANDARD
END:VTIMEZONE
BEGIN:VEVENT
DTSTART;TZID=America/New_York:20251125T130000
DTEND;TZID=America/New_York:20251125T140000
DTSTAMP:20260424T035014
CREATED:20241124T143030Z
LAST-MODIFIED:20251125T212047Z
UID:18678-1764075600-1764079200@emetonline.org
SUMMARY:Is Israel's Qualitative Military Edge Eroding?
DESCRIPTION:  \n  \nThe transcript will be available here \n  \nThis week\, Saudi Prince Mohammed bin Salman\, amidst much pageantry and fanfare\, visited President Donald Trump in the Oval Office. What was promised to Riyadh was two squadrons of F 35 jets\, a joint civil nuclear energy program and nearly 300 tanks. Meanwhile\, despite assurances from Lebanese President Joseph Auon that Hezbollah would be disabled\, there have been no demonstrable signs of that. On November 10th\, President Trump also met with Syrian President Ahmed al-Sharaa\, the first time a Syrian President has visited the White House. President Trump had described the former al-Quada leader as a “ young\, attractive guy-tough guy with a strong past.” Only months ago\, there was a $10 million bounty on his head. On November 6th\, exactly 4 days before the Trump-al Sharaa meeting\, the United Nations lifted all sanctions against al-Sharaa. Meanwhile\, in defiance of their international commitments\, Iran has thrown out the International Atomic Energy Administration inspectors. \nWhat is going on in the Middle East today\, and what is happening to the US legal obligation that Israel always maintains a Qualitative Military Edge? \nAbout Our Speaker: Hazem Alghabra\, born in Damascus Syria\, is the founder and president of Frontiers Consultants\, a Washington DC-based consultancy firm that provides public relations and crisis management solutions with a focus on the Middle East and the United States. Prior to starting his firm\, Alghabra held multiple positions with the U.S. Department of State including senior advisor for public affairs at the Bureau of Near Eastern Affairs. Alghabra provides daily insight and analysis as a commentator on a vast array of television stations including i24\, Keshet\, Alarabyia\, Sky News\, BBC\, and Alsharq-Bloomberg.
URL:https://emetonline.org/event/is-israels-qualitative-military-edge-eroding/
CATEGORIES:Webinar
ATTACH;FMTTYPE=image/png:https://emetonline.org/wp-content/uploads/2024/11/12524-Webinar-1.png
END:VEVENT
END:VCALENDAR