BEGIN:VCALENDAR
VERSION:2.0
PRODID:-//EMET | Endowment for Middle East Truth - ECPv6.15.17.1//NONSGML v1.0//EN
CALSCALE:GREGORIAN
METHOD:PUBLISH
X-ORIGINAL-URL:https://emetonline.org
X-WR-CALDESC:Events for EMET | Endowment for Middle East Truth
REFRESH-INTERVAL;VALUE=DURATION:PT1H
X-Robots-Tag:noindex
X-PUBLISHED-TTL:PT1H
BEGIN:VTIMEZONE
TZID:America/New_York
BEGIN:DAYLIGHT
TZOFFSETFROM:-0500
TZOFFSETTO:-0400
TZNAME:EDT
DTSTART:20240310T070000
END:DAYLIGHT
BEGIN:STANDARD
TZOFFSETFROM:-0400
TZOFFSETTO:-0500
TZNAME:EST
DTSTART:20241103T060000
END:STANDARD
BEGIN:DAYLIGHT
TZOFFSETFROM:-0500
TZOFFSETTO:-0400
TZNAME:EDT
DTSTART:20250309T070000
END:DAYLIGHT
BEGIN:STANDARD
TZOFFSETFROM:-0400
TZOFFSETTO:-0500
TZNAME:EST
DTSTART:20251102T060000
END:STANDARD
BEGIN:DAYLIGHT
TZOFFSETFROM:-0500
TZOFFSETTO:-0400
TZNAME:EDT
DTSTART:20260308T070000
END:DAYLIGHT
BEGIN:STANDARD
TZOFFSETFROM:-0400
TZOFFSETTO:-0500
TZNAME:EST
DTSTART:20261101T060000
END:STANDARD
END:VTIMEZONE
BEGIN:VEVENT
DTSTART;TZID=America/New_York:20251210T120000
DTEND;TZID=America/New_York:20251210T140000
DTSTAMP:20260424T022834
CREATED:20241130T143030Z
LAST-MODIFIED:20251210T190013Z
UID:18716-1765368000-1765375200@emetonline.org
SUMMARY:As We Approach Phase Two of President Trump’s Plan\, What is in Store for Israel and the Middle East?
DESCRIPTION:  \nThe transcript will be available here \n  \nAs we approach phase two of President Trump’s Plan\, does Hamas have any plans to disarm\, which is one of the President’s conditions for proceeding further? Looking north\, will President Joseph Aoun\, as promised to dismantle the Hezbollah infrastructure? What is happening with Egypt’s commitments made in 1979 to dismantle its military force in the Sinai\, and why have they smuggled weapons into Gaza? Why is Jordan participated in the smuggling of Weapons into Judea and Samaria\, the West Bank? Is Ahmed al Sharaa capable of making an enduring peace with Israel? Where are we on our relationship with Saudi Arabia? \n  \nHere to discuss this\, and much more is David Wurmser. \n  \nAbout our Speaker: David Wurmser is a Senior Middle East Analyst for the Center for Security Policy\, and is a member of EMET’s Board of Advisors. He served as Middle East Adviser to former US Vice President Dick Cheney\, as special assistant to John R. Bolton at the State Department and as a research fellow on the Middle East at the American Enterprise Institute (AEI). He served in the U.S. Navy Reserve as an intelligence officer at the rank of Lieutenant Commander. He has written many widely acclaimed books and papers\, such as the 1996 report A Clean Break: A New Strategy for Securing the Realm\, a paper prepared for incoming Israeli Prime Minister Binyamin Netanyahu. This advocated pre-emptive strikes against Iran and Syria\, the removal of Saddam Hussein from Iraq and the abandonment of traditional “land for peace” negotiations with Palestinians. \nIn 1999\, Wurmser wrote Tyranny’s Ally: America’s Failure to Defeat Saddam Hussein (published by AEI Press)\, which argued that President Clinton’s policies in Iraq were failing to contain the country. \nIn 2000\, Wurmser helped draft a document entitled “Ending Syria’s Occupation of Lebanon: The US Role?”\, which called for a confrontation with the regime in Damascus. The document said that Syria was developing “weapons of mass destruction”.
URL:https://emetonline.org/event/as-we-approach-phase-two-of-president-trumps-plan-what-is-in-store-for-israel-and-the-middle-east/
CATEGORIES:Webinar
ATTACH;FMTTYPE=image/png:https://emetonline.org/wp-content/uploads/2024/11/22124-Webinar-1.png
END:VEVENT
END:VCALENDAR