BEGIN:VCALENDAR
VERSION:2.0
PRODID:-//EMET | Endowment for Middle East Truth - ECPv6.15.17.1//NONSGML v1.0//EN
CALSCALE:GREGORIAN
METHOD:PUBLISH
X-WR-CALNAME:EMET | Endowment for Middle East Truth
X-ORIGINAL-URL:https://emetonline.org
X-WR-CALDESC:Events for EMET | Endowment for Middle East Truth
REFRESH-INTERVAL;VALUE=DURATION:PT1H
X-Robots-Tag:noindex
X-PUBLISHED-TTL:PT1H
BEGIN:VTIMEZONE
TZID:America/New_York
BEGIN:DAYLIGHT
TZOFFSETFROM:-0500
TZOFFSETTO:-0400
TZNAME:EDT
DTSTART:20240310T070000
END:DAYLIGHT
BEGIN:STANDARD
TZOFFSETFROM:-0400
TZOFFSETTO:-0500
TZNAME:EST
DTSTART:20241103T060000
END:STANDARD
BEGIN:DAYLIGHT
TZOFFSETFROM:-0500
TZOFFSETTO:-0400
TZNAME:EDT
DTSTART:20250309T070000
END:DAYLIGHT
BEGIN:STANDARD
TZOFFSETFROM:-0400
TZOFFSETTO:-0500
TZNAME:EST
DTSTART:20251102T060000
END:STANDARD
BEGIN:DAYLIGHT
TZOFFSETFROM:-0500
TZOFFSETTO:-0400
TZNAME:EDT
DTSTART:20260308T070000
END:DAYLIGHT
BEGIN:STANDARD
TZOFFSETFROM:-0400
TZOFFSETTO:-0500
TZNAME:EST
DTSTART:20261101T060000
END:STANDARD
END:VTIMEZONE
BEGIN:VEVENT
DTSTART;TZID=America/New_York:20251230T120000
DTEND;TZID=America/New_York:20251230T130000
DTSTAMP:20260424T010639
CREATED:20251226T142430Z
LAST-MODIFIED:20251230T180345Z
UID:18912-1767096000-1767099600@emetonline.org
SUMMARY:The View from the Israeli North with Lt. Col. Sarit Zehavi
DESCRIPTION:  \nThe transcript will be available here  \n  \nWhy must Israel maintain control of the Golan Heights\, which the US recognized as sovereign Israeli territory on March 25\, 2019?  What is the IDF doing inside of Syria\, and how is it protecting against further Hezbollah penetration into Lebanon? How is Hezbollah and the vastly metastasizing Shiite presence in Lebanon getting its funding for its armaments?  What is the “Al-Qard Al-Hassan” and how is it involved in Hezbollah’s operations in Israel’s north? Can the Lebanese government shut down this nefarious operation? \nHere to answer all of these questions and more\, is Lieutenant Colonel Sarit Zahavi. \nAbout our Speaker:  \nLieutenant Colonel (Res.) Sarit Zehavi is the founder and president of Alma\, a nonprofit and an independent research and education center specializing in Israel’s security challenges on its northern border. Sarit has briefed hundreds of groups and forums\, ranging from US Senators\, Congressmen/women\, and politicians to senior journalists and visiting VIP groups in Israel and overseas. Sarit scripts numerous position papers and updates focusing on Lebanon\, Syria\, and Israel’s national security challenges. She served for 15 years in the Israeli Defense Forces\, specializing in military intelligence\, holds an M.A. in Middle East Studies from Ben-Gurion University\, and is also a member of Forum Devora\, promoting the equal representation of women in key decision-making positions in the fields of national security and foreign policy. Her unique achievements led her to be selected by the Jerusalem Post as one of the Top 50 Most Influential Jews of 2021. \nSarit lives in the Western Galilee.
URL:https://emetonline.org/event/the-view-from-the-israeli-north-with-lt-col-sarit-zehavi/
CATEGORIES:Webinar
ATTACH;FMTTYPE=image/png:https://emetonline.org/wp-content/uploads/2025/08/7324-Webinar-3-1.png
END:VEVENT
END:VCALENDAR