BEGIN:VCALENDAR
VERSION:2.0
PRODID:-//EMET | Endowment for Middle East Truth - ECPv6.15.17.1//NONSGML v1.0//EN
CALSCALE:GREGORIAN
METHOD:PUBLISH
X-WR-CALNAME:EMET | Endowment for Middle East Truth
X-ORIGINAL-URL:https://emetonline.org
X-WR-CALDESC:Events for EMET | Endowment for Middle East Truth
REFRESH-INTERVAL;VALUE=DURATION:PT1H
X-Robots-Tag:noindex
X-PUBLISHED-TTL:PT1H
BEGIN:VTIMEZONE
TZID:America/New_York
BEGIN:DAYLIGHT
TZOFFSETFROM:-0500
TZOFFSETTO:-0400
TZNAME:EDT
DTSTART:20250309T070000
END:DAYLIGHT
BEGIN:STANDARD
TZOFFSETFROM:-0400
TZOFFSETTO:-0500
TZNAME:EST
DTSTART:20251102T060000
END:STANDARD
BEGIN:DAYLIGHT
TZOFFSETFROM:-0500
TZOFFSETTO:-0400
TZNAME:EDT
DTSTART:20260308T070000
END:DAYLIGHT
BEGIN:STANDARD
TZOFFSETFROM:-0400
TZOFFSETTO:-0500
TZNAME:EST
DTSTART:20261101T060000
END:STANDARD
BEGIN:DAYLIGHT
TZOFFSETFROM:-0500
TZOFFSETTO:-0400
TZNAME:EDT
DTSTART:20270314T070000
END:DAYLIGHT
BEGIN:STANDARD
TZOFFSETFROM:-0400
TZOFFSETTO:-0500
TZNAME:EST
DTSTART:20271107T060000
END:STANDARD
END:VTIMEZONE
BEGIN:VEVENT
DTSTART;TZID=America/New_York:20260114T120000
DTEND;TZID=America/New_York:20260114T130000
DTSTAMP:20260424T010640
CREATED:20260105T152430Z
LAST-MODIFIED:20260114T224529Z
UID:18946-1768392000-1768395600@emetonline.org
SUMMARY:What is Happening in Iran\, Today
DESCRIPTION:  \nThe transcript will be available here.  \nAs protesters are rocking the streets throughout the Islamic Republic of Iran\, are the IRGC  and the Basij going to become more repressive? How many protesters are willing to put their lives on the line? Will Reza Pahlavi return to office? Is Erdogan waiting in the wings for a Sunni-Shia confrontation?? What will become of Stage II of the Gaza withdrawal? Is Egypt going to intervene in Gaza? And how will President Trump’s actions in Venezuela affect the Middle Eastern map? \nHere to answer these questions and more is Dr. Mordechai Kedar of Bar Ilan University. \nAbout Our Speaker \nLt.-Col. (res.) Dr. Mordechai Kedar is a distinguished professor of  Arabic & Middle East literature and culture at Israel’s Bar Ilan University and a research associate at the University’s Begin-Sadat (BESA) Center for Strategic Studies.  Dr. Kedar is a 25-year veteran of IDF Military Intelligence. \nDr. Kedar is a sought-after lecturer in Israel and abroad and his extensive experience on intelligence\, counterterrorism and Arab and Middle East affairs coupled with his charisma and intelligence makes every encounter fascinating and his geo-strategic analysis captivating. Dr. Kedar has frequently appeared on Israel’s television news networks as well as the Arabic-language Al Jazeera television network.
URL:https://emetonline.org/event/what-is-happening-in-iran-today/
CATEGORIES:Webinar
ATTACH;FMTTYPE=image/png:https://emetonline.org/wp-content/uploads/2025/05/mordechai-kedar.png
END:VEVENT
END:VCALENDAR