BEGIN:VCALENDAR
VERSION:2.0
PRODID:-//EMET | Endowment for Middle East Truth - ECPv6.15.17.1//NONSGML v1.0//EN
CALSCALE:GREGORIAN
METHOD:PUBLISH
X-ORIGINAL-URL:https://emetonline.org
X-WR-CALDESC:Events for EMET | Endowment for Middle East Truth
REFRESH-INTERVAL;VALUE=DURATION:PT1H
X-Robots-Tag:noindex
X-PUBLISHED-TTL:PT1H
BEGIN:VTIMEZONE
TZID:America/New_York
BEGIN:DAYLIGHT
TZOFFSETFROM:-0500
TZOFFSETTO:-0400
TZNAME:EDT
DTSTART:20230312T070000
END:DAYLIGHT
BEGIN:STANDARD
TZOFFSETFROM:-0400
TZOFFSETTO:-0500
TZNAME:EST
DTSTART:20231105T060000
END:STANDARD
BEGIN:DAYLIGHT
TZOFFSETFROM:-0500
TZOFFSETTO:-0400
TZNAME:EDT
DTSTART:20240310T070000
END:DAYLIGHT
BEGIN:STANDARD
TZOFFSETFROM:-0400
TZOFFSETTO:-0500
TZNAME:EST
DTSTART:20241103T060000
END:STANDARD
BEGIN:DAYLIGHT
TZOFFSETFROM:-0500
TZOFFSETTO:-0400
TZNAME:EDT
DTSTART:20250309T070000
END:DAYLIGHT
BEGIN:STANDARD
TZOFFSETFROM:-0400
TZOFFSETTO:-0500
TZNAME:EST
DTSTART:20251102T060000
END:STANDARD
END:VTIMEZONE
BEGIN:VEVENT
DTSTART;TZID=America/New_York:20241113T120000
DTEND;TZID=America/New_York:20241113T130000
DTSTAMP:20260424T125821
CREATED:20241110T143030Z
LAST-MODIFIED:20241113T190100Z
UID:17904-1731499200-1731502800@emetonline.org
SUMMARY:India\, Israel\, and the Middle East
DESCRIPTION:  \n  \nThe transcript will be available here \nAs global dynamics change\, India has emerged more and more as a leading global power. But what does the rise of India mean for the Middle East and Israel in particular? And how does India view the region? Here to discuss the history and current state of Indian-Israeli relations is Ratnadeep Chakraborty. \n   About our Speaker: Ratnadeep Chakraborty is the author of “The Evolution of Israel’s National Security Doctrine: A Journey from Ben-Gurion to Netanyahu” and the co-founder of “The Honest Critique”\, an independent media organization offering in-depth analysis of global affairs. He contributes regularly to prominent media platforms in India and hosts the popular podcast “Indian Eye on Israel\,” where he delves into Israel’s politics\, society\, and its role on the global stage. He specializes in strategic affairs and terrorism in the Middle East region\, uniquely decoding Israel’s complex political and security landscape through an Indian lens. He holds two master’s degrees in international relations and history as well as a bachelor’s degree in journalism.
URL:https://emetonline.org/event/india-israel-and-the-middle-east/
CATEGORIES:Webinar
ATTACH;FMTTYPE=image/png:https://emetonline.org/wp-content/uploads/2024/11/10224-Webinar-5.png
END:VEVENT
END:VCALENDAR